BEGIN:VCALENDAR
CALSCALE:GREGORIAN
X-WR-TIMEZONE;VALUE=TEXT:GMT-4
X-WR-CALDESC;VALUE=TEXT:The community events calendar for
  the Town of Saugus\, Massachusetts.
PRODID:-//Saugus.net//iCalendar 1.0a//en-US
X-WR-CALNAME;VALUE=TEXT:Saugus Community Calendar
VERSION:2.0
BEGIN:VEVENT
DTSTAMP:20200904T155839Z
UID:eschena@saugus-ma.gov
SUMMARY:Presidential Election

ORGANIZER:MAILTO:eschena@saugus-ma.gov
CONTACT:781-231-4104
LOCATION:All the usual polling places

DTSTART:20201103T120000Z
DTEND:20201104T010000Z
TZNAME:
END:VEVENT
BEGIN:VEVENT
DTSTAMP:20200904T155726Z
UID:eschena@saugus-ma.gov
SUMMARY:Last Day to Apply for Absentee Ballot

DESCRIPTION:Must be done by 12:00 PM. 
ORGANIZER:MAILTO:eschena@saugus-ma.gov
CONTACT:781-231-4104
LOCATION:Saugus Town Hall, 298 Central Street, Saugus, MA  01906

DTSTART:20201102T164500Z
DTEND:20201102T170000Z
TZNAME:
END:VEVENT
BEGIN:VEVENT
DTSTAMP:20200904T160729Z
UID:contest@saugus.net
SUMMARY:Saugus.net Halloween Contest Results Posted

DESCRIPTION:The winning stories will be posted online live tonight\, cat
 egory by category. Good luck to everyone who entered\, and h
 appy Halloween! 
ORGANIZER:MAILTO:contest@saugus.net
LOCATION:online

DTSTART:20201031T223000Z
DTEND:20201101T034500Z
TZNAME:
END:VEVENT
BEGIN:VEVENT
DTSTAMP:20200904T155620Z
UID:eschena@saugus-ma.gov
SUMMARY:Last Day to Register to Vote / Make Changes to Voter Registration

ORGANIZER:MAILTO:eschena@saugus-ma.gov
CONTACT:781-231-4104
LOCATION:Saugus Town Hall, 298 Central Street, Saugus, MA  01906

DTSTART:20201024T154500Z
DTEND:20201024T160000Z
TZNAME:
END:VEVENT
BEGIN:VEVENT
DTSTAMP:20200904T160521Z
UID:contest@saugus.net
SUMMARY:Saugus.net Halloween Contest Deadline

DESCRIPTION:All entries must be submitted by e-mail no later than 11:59 
 Eastern Time tonight\, October 22nd\, in order to be conside
 red for this year's contest. 
ORGANIZER:MAILTO:contest@saugus.net
LOCATION:online

DTSTART:20201023T033000Z
DTEND:20201023T034500Z
TZNAME:
END:VEVENT
BEGIN:VEVENT
DTSTAMP:20200901T093201Z
UID:event_2020-09-01-19-00_1879
SUMMARY:Senatorial Primary Election

LOCATION:All the usual polling places

DTSTART:20200901T230000Z
DTEND:20200902T000000Z
TZNAME:
END:VEVENT
BEGIN:VEVENT
DTSTAMP:20200303T152021Z
UID:event_2020-03-11-19-00_1878
SUMMARY:Saugus Historical Society

DESCRIPTION:CLASSIC ROUTE 1!  Share your memories of Route 1 as we trave
 l back in time.  For many outside of Saugus\, the town is de
 fined as a 4 mile stretch of bright lights\, restaurants\, a
 nd shops.  The Newburyport Turnpike that was built in 1805 s
 uddenly blossomed in the mid-twentieth century as a destinat
 ion for many in eastern Massachusetts and beyond.  The inter
 esting signs and businesses of Saugus\, including Hilltop St
 eak House\, Prince Pizza\, Russo's Candies\, Red Coach Grill
 \, Kowloon\, Weylu's\, Augustine's\, Diamond Head\, Chicklan
 d\, Adventure Car Hop\, Flamingo Lounge\, Puritan Diner\, Th
 e Continental\, and so many more were known far and wide. So
 me are gone\, and some are very much still here.   Come see 
 a slide show of iconic places of the 50's\, 60's\, and 70's.
     This meeting will be held at the Legion Hall\, 44 Taylor
  St. in Saugus while the Saugus Historical Society's buildin
 g at 30 Main Street is under construction for the addition o
 f the SCTV studio.  Classic Route 1 is the first program for
  the 2020 Saugus Historical Society season and the meeting w
 ill begin at 7 PM on March 11.  It is free and open to the p
 ublic.  Light refreshments will be served. 
CONTACT:7812315988
LOCATION:American Legion Hall 44  Taylor St. Saugus (spring meeting location)

DTSTART:20200311T230000Z
DTEND:20200312T011500Z
TZNAME:
END:VEVENT
BEGIN:VEVENT
DTSTAMP:20191106T103120Z
UID:info@northshorecomputer.org
SUMMARY:North Shore Computer Society Meeting

DESCRIPTION:Mr. Ernest Felzani will share his investment club expertise\
 , explaining how to learn about investing\, share investing 
 experiences\, and help one another become more successful in
 vestors. Meetings are FREE and open to the public. Seating i
 s limited. 
ORGANIZER:MAILTO:info@northshorecomputer.org
CONTACT:978-977-2618
LOCATION:Peabody Municipal Light Plant, 201 Warren St. Ext., Peabody, MA

DTSTART:20191115T000000Z
DTEND:20191115T020000Z
TZNAME:
END:VEVENT
BEGIN:VEVENT
DTSTAMP:20181105T114628Z
UID:event_2019-11-05-07-00_1876
SUMMARY:Election Day

DESCRIPTION:Today is Election Day in Massachusetts. 
LOCATION:at the usual polling places

DTSTART:20191105T120000Z
DTEND:20191106T010000Z
TZNAME:
END:VEVENT
BEGIN:VEVENT
DTSTAMP:20190920T162753Z
UID:contests@saugus.net
SUMMARY:Saugus.net Halloween Contest Results Posted

DESCRIPTION:The winning stories will be posted online live tonight\, cat
 egory by category. Good luck to everyone who entered\, and h
 appy Halloween! 
ORGANIZER:MAILTO:contests@saugus.net
LOCATION:online

DTSTART:20191031T230000Z
DTEND:20191101T034500Z
TZNAME:
END:VEVENT
BEGIN:VEVENT
DTSTAMP:20191013T141131Z
UID:rabber01@comcast.net
SUMMARY:Saugus Garden Club

DESCRIPTION:Speaker Gordon Shepard will discuss Civil War Project at Riv
 erside Cemetery. Randy-Sue Abber on Garden Hacks Nancy Sayle
 s and Kathleen Nadeau on Butterfly Garden Light Refreshments
  will be served Info: Donna 781-233-5640 or Lorraine 781-233
 -7541  [Phone] 781-231-0877\, e-mail:rabber01@comcast.net 
ORGANIZER:MAILTO:rabber01@comcast.net
CONTACT:781-231-0877
LOCATION:St. John's Church 256 Central Street Saugus MA

DTSTART:20191023T223000Z
DTEND:20191024T010000Z
TZNAME:
END:VEVENT
BEGIN:VEVENT
DTSTAMP:20191008T153048Z
UID:rabber01@comcast.net
SUMMARY:Saugus Garden Club Meeting

DESCRIPTION:Speaker Gordon Shepard will discuss Civil War Project at Riv
 erside Cemetery.  Randy-Sue Abber on Garden Hacks  Nancy Say
 les and Kathleen Nadeau on Butterfly Garden  Light Refreshme
 nts will be served  Info:  Donna 781-233-5640 or  Lorraine 7
 81-233-7541 
ORGANIZER:MAILTO:rabber01@comcast.net
CONTACT:781-231-0877
LOCATION:St. John's Church 256 Central Street Saugus MA

DTSTART:20191023T183000Z
DTEND:20191023T210000Z
TZNAME:
END:VEVENT
BEGIN:VEVENT
DTSTAMP:20190920T162622Z
UID:contests@saugus.net
SUMMARY:Saugus.net Halloween Contest Deadline

DESCRIPTION:All entries must be submitted by e-mail no later than 11:59 
 tonight\, October 22nd\, in order to be considered for this 
 year's contest. 
ORGANIZER:MAILTO:contests@saugus.net
LOCATION:online

DTSTART:20191023T033000Z
DTEND:20191023T034500Z
TZNAME:
END:VEVENT
BEGIN:VEVENT
DTSTAMP:20190829T135611Z
UID:info@bostonveg.org
SUMMARY:Boston Vegetarian Food Festival

DESCRIPTION:Like last year\, we will have TWO FLOORS of exhibitors of 10
 0% plant foods\, fashion\, lifestyle products\, and nonprofi
 t educators that make vegan living delicious\, fun\, easy\, 
 and rewarding.      We are renting a big\, amphitheater-styl
 e auditorium across the street from the Reggie Lewis Center 
 for our speaker presentations. You will have comfy\, padded 
 seats with good views\, a stage and a big screen. We will ne
 ed you to walk across the street at the traffic light\, ente
 r the first door on your left\, and bring friends so our spe
 akers will have a full house in this big space! 
ORGANIZER:MAILTO:info@bostonveg.org
CONTACT:617-424-8846
LOCATION:Reggie Lewis Athletic Center, 1350 Tremont St., Boston, MA

DTSTART:20191020T140000Z
DTEND:20191020T200000Z
TZNAME:
END:VEVENT
BEGIN:VEVENT
DTSTAMP:20190829T135530Z
UID:info@bostonveg.org
SUMMARY:Boston Vegetarian Food Festival

DESCRIPTION:Like last year\, we will have TWO FLOORS of exhibitors of 10
 0% plant foods\, fashion\, lifestyle products\, and nonprofi
 t educators that make vegan living delicious\, fun\, easy\, 
 and rewarding.      We are renting a big\, amphitheater-styl
 e auditorium across the street from the Reggie Lewis Center 
 for our speaker presentations. You will have comfy\, padded 
 seats with good views\, a stage and a big screen. We will ne
 ed you to walk across the street at the traffic light\, ente
 r the first door on your left\, and bring friends so our spe
 akers will have a full house in this big space! 
ORGANIZER:MAILTO:info@bostonveg.org
CONTACT:617-424-8846
LOCATION:Reggie Lewis Athletic Center, 1350 Tremont St., Boston, MA

DTSTART:20191019T150000Z
DTEND:20191019T220000Z
TZNAME:
END:VEVENT
BEGIN:VEVENT
DTSTAMP:20190906T095540Z
UID:event_2019-09-14-09-00_1842
SUMMARY:Yard Sale

DESCRIPTION:Housewares\, purses 
LOCATION:29 School St; Saugus

DTSTART:20190914T130000Z
DTEND:20190914T190000Z
TZNAME:
END:VEVENT
BEGIN:VEVENT
DTSTAMP:20190905T160101Z
UID:event_2019-09-14-09-00_1870
SUMMARY:Saugus Founders Day

DESCRIPTION:Vendors\, Artists\, Games\, Food\, and Entertainment!    The
  Town of Saugus holds its annual street fair - Founders Day 
 - on Sat\, Sep 14 (originally scheduled on Sept. 7\, it was 
 changed to Sept. 14 due to Hurricane Dorian). 
LOCATION:Saugus Center

DTSTART:20190914T130000Z
DTEND:20190914T190000Z
TZNAME:
END:VEVENT
BEGIN:VEVENT
DTSTAMP:20190828T174854Z
UID:tmj1014@aol.com
SUMMARY:Yard Sale

ORGANIZER:MAILTO:tmj1014@aol.com
CONTACT:7812333919
LOCATION:30 Wamesit Ave; Saugus

DTSTART:20190907T130000Z
DTEND:20190907T190000Z
TZNAME:
END:VEVENT
BEGIN:VEVENT
DTSTAMP:20190905T155141Z
UID:event_2019-09-07-09-00_1869
SUMMARY:Saugus Founders Day

DESCRIPTION:Vendors\, Artists\, Games\, Food\, and Entertainment!    The
  Town of Saugus holds its annual street fair - Founders Day 
 - on Sat\, Sep 7.  Update: Founders Day has been postponed u
 ntil the rain date of Sept. 5 due to the impending hurricane
 . It will still be from 9:00 to 3:00. 
LOCATION:Saugus Center

DTSTART:20190907T130000Z
DTEND:20190907T190000Z
TZNAME:
END:VEVENT
BEGIN:VEVENT
DTSTAMP:20190516T183301Z
UID:event_2019-05-18-09-00_1840
SUMMARY:Yard Sale

DESCRIPTION:Come find a treasure for you or someone you love....jewlery\
 , glassware\, clothes\, furniture\, toys and lots more. 
LOCATION:45 Stone Street; Saugus

DTSTART:20190518T130000Z
DTEND:20190518T180000Z
TZNAME:
END:VEVENT
BEGIN:VEVENT
DTSTAMP:20190327T130234Z
UID:donna23@comcast.net 
SUMMARY:Saugus Garden Club

DESCRIPTION:Our Guest speaker will be Lou Greenstein www.louepicure.com.
   He will demonstrate techniques using carved vegetables and
  fruits as centerpieces. Lou is well known for creating vege
 table flower displays\, designing edible gifts\, and buildin
 g large edible vegetable displays.  For more information\, c
 ontact Lorraine at 781.233.7541  or Donna at 781.233.5640 
ORGANIZER:MAILTO:donna23@comcast.net 
CONTACT:781-233-5640
LOCATION:Saugus Town Hall Central Street Saugus Center Saugus MA

DTSTART:20190515T220000Z
DTEND:20190515T220000Z
TZNAME:
END:VEVENT
BEGIN:VEVENT
DTSTAMP:20190329T192428Z
UID:rabber01@comcast.net
SUMMARY:Saugus Democratic Town Committee

DESCRIPTION:SAUGUS DEMOCRATIC TOWN COMMITTEE  2019 Annual Dinner  Greeti
 ngs:								March 29\, 2019  The Saugus Democratic Town Comm
 ittee will be holding its Annual Dinner on Sunday\, April 28
 \, 2019 at Bertucci s on Route 1 North\, Peabody from 5:00PM
  -8:30PM.      The cost of the meal is $30.00 per person and
  will include spaghetti and meatballs\, ravioli\, pizza\, sa
 lad\, rolls and a beverage.      There will also be raffles 
 which will benefit the Saugus Democratic Education Fund.    
 RSVP by April 14\, 2019  Please make checks payable to:  Sau
 gus Democratic Town Committee   and mail to:   Randy-Sue Abb
 er   10 Lawndale Avenue  Saugus\, MA 01906     For more info
 rmation contact Randy-Sue Abber at 781-231-0877.    Thanks  
 Randy-Sue Abber 
ORGANIZER:MAILTO:rabber01@comcast.net
CONTACT:781-231-0877
LOCATION:Bertucci's Restaurant

DTSTART:20190428T210000Z
DTEND:20190429T003000Z
TZNAME:
END:VEVENT
BEGIN:VEVENT
DTSTAMP:20190407T005507Z
UID:ruthydan@yahoo.com
SUMMARY:Northshore Computer Club Meeting

DESCRIPTION:Robert Sciliano\, World Renowned CyberSecurityExpert\, will 
 present a program on Hacking and/or identity theft.  You mig
 ht recognize him as   appearing on TV News stations and CNN 
 (just this past week). 
ORGANIZER:MAILTO:ruthydan@yahoo.com
LOCATION:Peabody Light Plant, 301 Warren Street Ext., Peabody MAW

DTSTART:20190411T230000Z
DTEND:20190412T010000Z
TZNAME:
END:VEVENT
END:VCALENDAR
